BEGIN:VCALENDAR
VERSION:2.0
PRODID:-//wp-events-plugin.com//7.2.3.1//EN
TZID:Europe/Berlin
X-WR-TIMEZONE:Europe/Berlin
BEGIN:VEVENT
UID:80@scalare-rosenheim.de
DTSTART;TZID=Europe/Berlin:20240310T100000
DTEND;TZID=Europe/Berlin:20240310T120000
DTSTAMP:20240227T111720Z
URL:https://www.scalare-rosenheim.de/events/aquaristik-boerse-2024-02-2/
SUMMARY:Aquaristik-Börse März 2024
DESCRIPTION:Zierfisch- und Wasserpflanzenbörse
ATTACH;FMTTYPE=image/jpeg:https://www.scalare-rosenheim.de/wp-content/uplo
 ads/ngg_featured/Logo-Börse.png
CATEGORIES:Aquaristik-Börse
LOCATION:ex Hotel/Restaurant Rim\, Rosenheimer Straße 73\, Raubling-Pfraun
 dorf\, 83064\, Deutschland
X-APPLE-STRUCTURED-LOCATION;VALUE=URI;X-ADDRESS=Rosenheimer Straße 73\, Ra
 ubling-Pfraundorf\, 83064\, Deutschland;X-APPLE-RADIUS=100;X-TITLE=ex Hote
 l/Restaurant Rim:geo:0,0
END:VEVENT
BEGIN:VTIMEZONE
TZID:Europe/Berlin
X-LIC-LOCATION:Europe/Berlin
BEGIN:STANDARD
DTSTART:20231029T020000
TZOFFSETFROM:+0200
TZOFFSETTO:+0100
TZNAME:CET
END:STANDARD
END:VTIMEZONE
END:VCALENDAR